Package: ccrepe Version: 1.44.0 Command: chmod a+r ccrepe -R && E:\biocbuild\bbs-3.21-bioc\R\bin\R.exe CMD build --keep-empty-dirs --no-resave-data ccrepe StartedAt: 2025-08-14 17:53:21 -0400 (Thu, 14 Aug 2025) EndedAt: 2025-08-14 17:53:52 -0400 (Thu, 14 Aug 2025) EllapsedTime: 31.1 seconds RetCode: 0 Status: OK PackageFile: ccrepe_1.44.0.tar.gz PackageFileSize: 304.1 KiB