Package: ccrepe Version: 1.44.0 Command: /home/biocbuild/bbs-3.21-bioc/R/bin/R CMD INSTALL ccrepe StartedAt: 2025-10-15 15:10:48 -0400 (Wed, 15 Oct 2025) EndedAt: 2025-10-15 15:10:52 -0400 (Wed, 15 Oct 2025) EllapsedTime: 4.2 seconds RetCode: 0 Status: OK