Package: ccrepe Version: 1.44.0 Command: rm -rf ccrepe.buildbin-libdir && mkdir ccrepe.buildbin-libdir && /Users/biocbuild/BBS/utils/build-universal.sh ccrepe_1.44.0.tar.gz /Library/Frameworks/R.framework/Resources/bin/R ccrepe.buildbin-libdir StartedAt: 2025-10-14 12:59:11 -0400 (Tue, 14 Oct 2025) EndedAt: 2025-10-14 12:59:18 -0400 (Tue, 14 Oct 2025) EllapsedTime: 7.5 seconds RetCode: 0 Status: OK PackageFile: ccrepe_1.44.0.tgz PackageFileSize: 359.2 KiB