Package: ccrepe Version: 1.44.0 Command: /Library/Frameworks/R.framework/Resources/bin/R CMD INSTALL ccrepe StartedAt: 2025-09-29 15:36:35 -0400 (Mon, 29 Sep 2025) EndedAt: 2025-09-29 15:36:39 -0400 (Mon, 29 Sep 2025) EllapsedTime: 3.5 seconds RetCode: 0 Status: OK