Package: ccrepe Version: 1.44.0 Command: /Library/Frameworks/R.framework/Resources/bin/R CMD check --install=check:ccrepe.install-out.txt --library=/Library/Frameworks/R.framework/Resources/library --no-vignettes --timings ccrepe_1.44.0.tar.gz StartedAt: 2025-09-30 15:18:44 -0400 (Tue, 30 Sep 2025) EndedAt: 2025-09-30 15:19:13 -0400 (Tue, 30 Sep 2025) EllapsedTime: 29.2 seconds RetCode: 0 Status: OK CheckDir: ccrepe.Rcheck Warnings: 0