Package: ccmap Version: 1.34.0 Command: /Library/Frameworks/R.framework/Resources/bin/R CMD check --install=check:ccmap.install-out.txt --library=/Library/Frameworks/R.framework/Resources/library --no-vignettes --timings ccmap_1.34.0.tar.gz StartedAt: 2025-10-14 01:07:26 -0400 (Tue, 14 Oct 2025) EndedAt: 2025-10-14 01:13:00 -0400 (Tue, 14 Oct 2025) EllapsedTime: 333.5 seconds RetCode: 0 Status: WARNINGS CheckDir: ccmap.Rcheck Warnings: 1