Package: ccmap Version: 1.34.0 Command: rm -rf ccmap.buildbin-libdir && mkdir ccmap.buildbin-libdir && /Users/biocbuild/BBS/utils/build-universal.sh ccmap_1.34.0.tar.gz /Library/Frameworks/R.framework/Resources/bin/R ccmap.buildbin-libdir StartedAt: 2025-10-14 12:58:57 -0400 (Tue, 14 Oct 2025) EndedAt: 2025-10-14 12:59:35 -0400 (Tue, 14 Oct 2025) EllapsedTime: 38.4 seconds RetCode: 0 Status: OK PackageFile: ccmap_1.34.0.tgz PackageFileSize: 418 KiB