Package: ccImpute Version: 1.10.0 Command: /home/biocbuild/bbs-3.21-bioc/R/bin/R CMD INSTALL ccImpute StartedAt: 2025-10-15 15:30:19 -0400 (Wed, 15 Oct 2025) EndedAt: 2025-10-15 15:31:01 -0400 (Wed, 15 Oct 2025) EllapsedTime: 41.5 seconds RetCode: 0 Status: OK