Package: ccImpute Version: 1.10.0 Command: /home/biocbuild/bbs-3.21-bioc/R/bin/R CMD check --install=check:ccImpute.install-out.txt --library=/home/biocbuild/bbs-3.21-bioc/R/site-library --timings ccImpute_1.10.0.tar.gz StartedAt: 2025-10-15 21:29:46 -0400 (Wed, 15 Oct 2025) EndedAt: 2025-10-15 21:35:56 -0400 (Wed, 15 Oct 2025) EllapsedTime: 370.4 seconds RetCode: 0 Status: OK CheckDir: ccImpute.Rcheck Warnings: 0