Package: ccImpute Version: 1.10.0 Command: /Library/Frameworks/R.framework/Resources/bin/R CMD build --keep-empty-dirs --no-resave-data ccImpute StartedAt: 2025-10-13 17:41:33 -0400 (Mon, 13 Oct 2025) EndedAt: 2025-10-13 17:50:09 -0400 (Mon, 13 Oct 2025) EllapsedTime: 516.1 seconds RetCode: 0 Status: OK PackageFile: ccImpute_1.10.0.tar.gz PackageFileSize: 986 KiB