Package: ccImpute Version: 1.10.0 Command: rm -rf ccImpute.buildbin-libdir && mkdir ccImpute.buildbin-libdir && /Users/biocbuild/BBS/utils/build-universal.sh ccImpute_1.10.0.tar.gz /Library/Frameworks/R.framework/Resources/bin/R ccImpute.buildbin-libdir StartedAt: 2025-10-14 12:58:57 -0400 (Tue, 14 Oct 2025) EndedAt: 2025-10-14 13:00:43 -0400 (Tue, 14 Oct 2025) EllapsedTime: 106.6 seconds RetCode: 0 Status: OK PackageFile: ccImpute_1.10.0.tgz PackageFileSize: 1.068 MiB