Package: ccImpute Version: 1.10.0 Command: rm -rf ccImpute.buildbin-libdir && mkdir ccImpute.buildbin-libdir && /Users/biocbuild/BBS/utils/build-universal.sh ccImpute_1.10.0.tar.gz /Library/Frameworks/R.framework/Resources/bin/R ccImpute.buildbin-libdir StartedAt: 2025-04-22 00:36:59 -0400 (Tue, 22 Apr 2025) EndedAt: 2025-04-22 00:37:54 -0400 (Tue, 22 Apr 2025) EllapsedTime: 55.1 seconds RetCode: 0 Status: OK PackageFile: ccImpute_1.10.0.tgz PackageFileSize: 1.068 MiB