Package: ccImpute Version: 1.10.0 Command: /home/biocbuild/R/R/bin/R CMD INSTALL ccImpute StartedAt: 2025-10-13 20:45:58 -0000 (Mon, 13 Oct 2025) EndedAt: 2025-10-13 20:47:02 -0000 (Mon, 13 Oct 2025) EllapsedTime: 64.2 seconds RetCode: 0 Status: OK