Package: ccImpute Version: 1.10.0 Command: /home/biocbuild/R/R/bin/R CMD check --install=check:ccImpute.install-out.txt --library=/home/biocbuild/R/R/site-library --no-vignettes --timings ccImpute_1.10.0.tar.gz StartedAt: 2025-10-14 07:14:46 -0000 (Tue, 14 Oct 2025) EndedAt: 2025-10-14 07:18:45 -0000 (Tue, 14 Oct 2025) EllapsedTime: 239.1 seconds RetCode: 0 Status: WARNINGS CheckDir: ccImpute.Rcheck Warnings: 1