Package: ccImpute Version: 1.10.0 Command: /Library/Frameworks/R.framework/Resources/bin/R CMD build --keep-empty-dirs --no-resave-data ccImpute StartedAt: 2025-04-21 15:49:51 -0400 (Mon, 21 Apr 2025) EndedAt: 2025-04-21 15:51:40 -0400 (Mon, 21 Apr 2025) EllapsedTime: 108.2 seconds RetCode: 0 Status: OK PackageFile: ccImpute_1.10.0.tar.gz PackageFileSize: 986.3 KiB