Package: ccImpute Version: 1.10.0 Command: rm -rf ccImpute.buildbin-libdir && mkdir ccImpute.buildbin-libdir && /Users/biocbuild/BBS/utils/build-universal.sh ccImpute_1.10.0.tar.gz /Library/Frameworks/R.framework/Resources/bin/R ccImpute.buildbin-libdir StartedAt: 2025-04-21 22:28:52 -0400 (Mon, 21 Apr 2025) EndedAt: 2025-04-21 22:29:09 -0400 (Mon, 21 Apr 2025) EllapsedTime: 16.4 seconds RetCode: 0 Status: OK PackageFile: ccImpute_1.10.0.tgz PackageFileSize: 1.06 MiB