Package: cbpManager Version: 1.16.0 Command: /home/biocbuild/bbs-3.21-bioc/R/bin/R CMD INSTALL cbpManager StartedAt: 2025-10-15 15:10:51 -0400 (Wed, 15 Oct 2025) EndedAt: 2025-10-15 15:11:01 -0400 (Wed, 15 Oct 2025) EllapsedTime: 10.3 seconds RetCode: 0 Status: OK