Package: cbpManager Version: 1.16.0 Command: /home/biocbuild/bbs-3.21-bioc/R/bin/R CMD build --keep-empty-dirs --no-resave-data cbpManager StartedAt: 2025-10-15 16:35:41 -0400 (Wed, 15 Oct 2025) EndedAt: 2025-10-15 16:35:53 -0400 (Wed, 15 Oct 2025) EllapsedTime: 12.0 seconds RetCode: 0 Status: OK PackageFile: cbpManager_1.16.0.tar.gz PackageFileSize: 4.639 MiB