Package: cbpManager Version: 1.16.0 Command: rm -rf cbpManager.buildbin-libdir && mkdir cbpManager.buildbin-libdir && /Users/biocbuild/BBS/utils/build-universal.sh cbpManager_1.16.0.tar.gz /Library/Frameworks/R.framework/Resources/bin/R cbpManager.buildbin-libdir StartedAt: 2025-10-15 17:44:08 -0400 (Wed, 15 Oct 2025) EndedAt: 2025-10-15 17:44:23 -0400 (Wed, 15 Oct 2025) EllapsedTime: 14.8 seconds RetCode: 0 Status: OK PackageFile: cbpManager_1.16.0.tgz PackageFileSize: 3.823 MiB