Package: categoryCompare Version: 1.52.0 Command: chmod a+r categoryCompare -R && E:\biocbuild\bbs-3.21-bioc\R\bin\R.exe CMD build --keep-empty-dirs --no-resave-data categoryCompare StartedAt: 2025-08-14 17:51:12 -0400 (Thu, 14 Aug 2025) EndedAt: 2025-08-14 17:55:59 -0400 (Thu, 14 Aug 2025) EllapsedTime: 287.6 seconds RetCode: 0 Status: OK PackageFile: categoryCompare_1.52.0.tar.gz PackageFileSize: 3.162 MiB