Package: categoryCompare Version: 1.52.0 Command: /Library/Frameworks/R.framework/Resources/bin/R CMD INSTALL categoryCompare StartedAt: 2025-10-13 16:25:33 -0400 (Mon, 13 Oct 2025) EndedAt: 2025-10-13 16:26:33 -0400 (Mon, 13 Oct 2025) EllapsedTime: 60.1 seconds RetCode: 0 Status: OK