Package: casper Version: 2.42.0 Command: /home/biocbuild/bbs-3.21-bioc/R/bin/R CMD check --install=check:casper.install-out.txt --library=/home/biocbuild/bbs-3.21-bioc/R/site-library --timings casper_2.42.0.tar.gz StartedAt: 2025-10-15 21:26:59 -0400 (Wed, 15 Oct 2025) EndedAt: 2025-10-15 21:32:03 -0400 (Wed, 15 Oct 2025) EllapsedTime: 304.3 seconds RetCode: 0 Status: WARNINGS CheckDir: casper.Rcheck Warnings: 1