Package: casper Version: 2.42.0 Command: /home/biocbuild/bbs-3.21-bioc/R/bin/R CMD build --keep-empty-dirs --no-resave-data casper StartedAt: 2025-10-15 16:34:40 -0400 (Wed, 15 Oct 2025) EndedAt: 2025-10-15 16:36:03 -0400 (Wed, 15 Oct 2025) EllapsedTime: 83.1 seconds RetCode: 0 Status: OK PackageFile: casper_2.42.0.tar.gz PackageFileSize: 2.268 MiB