Package: cancerclass Version: 1.52.0 Command: rm -rf cancerclass.buildbin-libdir && mkdir cancerclass.buildbin-libdir && E:\biocbuild\bbs-3.21-bioc\R\bin\R.exe CMD INSTALL --build --library=cancerclass.buildbin-libdir cancerclass_1.52.0.tar.gz StartedAt: 2025-08-15 08:55:07 -0400 (Fri, 15 Aug 2025) EndedAt: 2025-08-15 08:55:36 -0400 (Fri, 15 Aug 2025) EllapsedTime: 28.6 seconds RetCode: 0 Status: OK PackageFile: cancerclass_1.52.0.zip PackageFileSize: 1.522 MiB