Package: cancerclass Version: 1.52.0 Command: /home/biocbuild/bbs-3.21-bioc/R/bin/R CMD check --install=check:cancerclass.install-out.txt --library=/home/biocbuild/bbs-3.21-bioc/R/site-library --timings cancerclass_1.52.0.tar.gz StartedAt: 2025-10-15 21:25:56 -0400 (Wed, 15 Oct 2025) EndedAt: 2025-10-15 21:26:59 -0400 (Wed, 15 Oct 2025) EllapsedTime: 63.1 seconds RetCode: 0 Status: OK CheckDir: cancerclass.Rcheck Warnings: 0