Package: cancerclass Version: 1.52.0 Command: /home/biocbuild/bbs-3.21-bioc/R/bin/R CMD build --keep-empty-dirs --no-resave-data cancerclass StartedAt: 2025-10-15 16:34:06 -0400 (Wed, 15 Oct 2025) EndedAt: 2025-10-15 16:34:29 -0400 (Wed, 15 Oct 2025) EllapsedTime: 23.0 seconds RetCode: 0 Status: OK PackageFile: cancerclass_1.52.0.tar.gz PackageFileSize: 1.524 MiB