Package: cancerclass Version: 1.52.0 Command: /Library/Frameworks/R.framework/Resources/bin/R CMD check --install=check:cancerclass.install-out.txt --library=/Library/Frameworks/R.framework/Resources/library --no-vignettes --timings cancerclass_1.52.0.tar.gz StartedAt: 2025-10-10 01:06:01 -0400 (Fri, 10 Oct 2025) EndedAt: 2025-10-10 01:07:59 -0400 (Fri, 10 Oct 2025) EllapsedTime: 117.8 seconds RetCode: 0 Status: WARNINGS CheckDir: cancerclass.Rcheck Warnings: 1