Package: cancerclass Version: 1.52.0 Command: /Library/Frameworks/R.framework/Resources/bin/R CMD INSTALL cancerclass StartedAt: 2025-10-06 15:55:39 -0400 (Mon, 06 Oct 2025) EndedAt: 2025-10-06 15:55:47 -0400 (Mon, 06 Oct 2025) EllapsedTime: 7.9 seconds RetCode: 0 Status: OK