Package: cancerclass Version: 1.52.0 Command: rm -rf cancerclass.buildbin-libdir && mkdir cancerclass.buildbin-libdir && /Users/biocbuild/BBS/utils/build-universal.sh cancerclass_1.52.0.tar.gz /Library/Frameworks/R.framework/Resources/bin/R cancerclass.buildbin-libdir StartedAt: 2025-10-08 20:03:13 -0400 (Wed, 08 Oct 2025) EndedAt: 2025-10-08 20:03:24 -0400 (Wed, 08 Oct 2025) EllapsedTime: 10.3 seconds RetCode: 0 Status: OK PackageFile: cancerclass_1.52.0.tgz PackageFileSize: 1.624 MiB