Package: canceR Version: 1.42.0 Command: /home/biocbuild/R/R/bin/R CMD build --keep-empty-dirs --no-resave-data canceR StartedAt: 2025-10-13 23:20:25 -0000 (Mon, 13 Oct 2025) EndedAt: 2025-10-13 23:22:33 -0000 (Mon, 13 Oct 2025) EllapsedTime: 128.0 seconds RetCode: 0 Status: OK PackageFile: canceR_1.42.0.tar.gz PackageFileSize: 31.48 MiB