Package: calm Version: 1.22.0 Command: rm -rf calm.buildbin-libdir && mkdir calm.buildbin-libdir && E:\biocbuild\bbs-3.21-bioc\R\bin\R.exe CMD INSTALL --build --library=calm.buildbin-libdir calm_1.22.0.tar.gz StartedAt: 2025-08-15 08:54:55 -0400 (Fri, 15 Aug 2025) EndedAt: 2025-08-15 08:55:04 -0400 (Fri, 15 Aug 2025) EllapsedTime: 9.2 seconds RetCode: 0 Status: OK PackageFile: calm_1.22.0.zip PackageFileSize: 421.9 KiB