Package: calm Version: 1.22.0 Command: /Library/Frameworks/R.framework/Resources/bin/R CMD INSTALL calm StartedAt: 2025-10-13 15:19:06 -0400 (Mon, 13 Oct 2025) EndedAt: 2025-10-13 15:19:49 -0400 (Mon, 13 Oct 2025) EllapsedTime: 43.3 seconds RetCode: 0 Status: OK