Package: cageminer Version: 1.14.2 Command: /home/biocbuild/bbs-3.21-bioc/R/bin/R CMD INSTALL cageminer StartedAt: 2025-10-15 15:47:46 -0400 (Wed, 15 Oct 2025) EndedAt: 2025-10-15 15:48:42 -0400 (Wed, 15 Oct 2025) EllapsedTime: 55.8 seconds RetCode: 0 Status: OK