Package: cageminer Version: 1.14.2 Command: /Library/Frameworks/R.framework/Resources/bin/R CMD check --install=check:cageminer.install-out.txt --library=/Library/Frameworks/R.framework/Resources/library --no-vignettes --timings cageminer_1.14.2.tar.gz StartedAt: 2025-10-14 01:00:48 -0400 (Tue, 14 Oct 2025) EndedAt: 2025-10-14 01:15:08 -0400 (Tue, 14 Oct 2025) EllapsedTime: 860.2 seconds RetCode: 0 Status: OK CheckDir: cageminer.Rcheck Warnings: 0