Package: cageminer Version: 1.14.2 Command: rm -rf cageminer.buildbin-libdir && mkdir cageminer.buildbin-libdir && /Users/biocbuild/BBS/utils/build-universal.sh cageminer_1.14.2.tar.gz /Library/Frameworks/R.framework/Resources/bin/R cageminer.buildbin-libdir StartedAt: 2025-10-14 12:57:50 -0400 (Tue, 14 Oct 2025) EndedAt: 2025-10-14 12:59:52 -0400 (Tue, 14 Oct 2025) EllapsedTime: 121.5 seconds RetCode: 0 Status: OK PackageFile: cageminer_1.14.2.tgz PackageFileSize: 1.452 MiB