Package: cageminer Version: 1.14.0 Command: /Library/Frameworks/R.framework/Resources/bin/R CMD INSTALL cageminer StartedAt: 2025-09-25 17:49:02 -0400 (Thu, 25 Sep 2025) EndedAt: 2025-09-25 17:50:09 -0400 (Thu, 25 Sep 2025) EllapsedTime: 67.3 seconds RetCode: 0 Status: OK