Package: cageminer Version: 1.14.0 Command: rm -rf cageminer.buildbin-libdir && mkdir cageminer.buildbin-libdir && /Users/biocbuild/BBS/utils/build-universal.sh cageminer_1.14.0.tar.gz /Library/Frameworks/R.framework/Resources/bin/R cageminer.buildbin-libdir StartedAt: 2025-10-01 17:40:26 -0400 (Wed, 01 Oct 2025) EndedAt: 2025-10-01 17:41:37 -0400 (Wed, 01 Oct 2025) EllapsedTime: 71.2 seconds RetCode: 0 Status: OK PackageFile: cageminer_1.14.0.tgz PackageFileSize: 1.453 MiB