Package: cTRAP Version: 1.26.0 Command: /Library/Frameworks/R.framework/Resources/bin/R CMD check --install=check:cTRAP.install-out.txt --library=/Library/Frameworks/R.framework/Resources/library --no-vignettes --timings cTRAP_1.26.0.tar.gz StartedAt: 2025-10-14 02:13:30 -0400 (Tue, 14 Oct 2025) EndedAt: 2025-10-14 02:37:05 -0400 (Tue, 14 Oct 2025) EllapsedTime: 1415.3 seconds RetCode: 0 Status: OK CheckDir: cTRAP.Rcheck Warnings: 0