Package: bugsigdbr Version: 1.14.3 Command: /Library/Frameworks/R.framework/Resources/bin/R CMD check --install=check:bugsigdbr.install-out.txt --library=/Library/Frameworks/R.framework/Resources/library --no-vignettes --timings bugsigdbr_1.14.3.tar.gz StartedAt: 2025-10-14 00:57:44 -0400 (Tue, 14 Oct 2025) EndedAt: 2025-10-14 01:04:02 -0400 (Tue, 14 Oct 2025) EllapsedTime: 377.8 seconds RetCode: 0 Status: OK CheckDir: bugsigdbr.Rcheck Warnings: 0