Package: bsseq Version: 1.44.1 Command: chmod a+r bsseq -R && E:\biocbuild\bbs-3.21-bioc\R\bin\R.exe CMD build --keep-empty-dirs --no-resave-data bsseq StartedAt: 2025-08-14 17:46:57 -0400 (Thu, 14 Aug 2025) EndedAt: 2025-08-14 17:50:38 -0400 (Thu, 14 Aug 2025) EllapsedTime: 221.2 seconds RetCode: 0 Status: OK PackageFile: bsseq_1.44.1.tar.gz PackageFileSize: 2.765 MiB