Package: bsseq Version: 1.44.1 Command: rm -rf bsseq.buildbin-libdir && mkdir bsseq.buildbin-libdir && E:\biocbuild\bbs-3.21-bioc\R\bin\R.exe CMD INSTALL --build --library=bsseq.buildbin-libdir bsseq_1.44.1.tar.gz StartedAt: 2025-08-15 08:54:03 -0400 (Fri, 15 Aug 2025) EndedAt: 2025-08-15 08:55:37 -0400 (Fri, 15 Aug 2025) EllapsedTime: 93.6 seconds RetCode: 0 Status: OK PackageFile: bsseq_1.44.1.zip PackageFileSize: 3.873 MiB