Package: bsseq Version: 1.44.0 Command: /Library/Frameworks/R.framework/Resources/bin/R CMD INSTALL bsseq StartedAt: 2025-04-21 15:16:34 -0400 (Mon, 21 Apr 2025) EndedAt: 2025-04-21 15:16:59 -0400 (Mon, 21 Apr 2025) EllapsedTime: 25.7 seconds RetCode: 0 Status: OK