Package: bsseq Version: 1.44.0 Command: rm -rf bsseq.buildbin-libdir && mkdir bsseq.buildbin-libdir && /Users/biocbuild/BBS/utils/build-universal.sh bsseq_1.44.0.tar.gz /Library/Frameworks/R.framework/Resources/bin/R bsseq.buildbin-libdir StartedAt: 2025-04-21 22:28:21 -0400 (Mon, 21 Apr 2025) EndedAt: 2025-04-21 22:28:42 -0400 (Mon, 21 Apr 2025) EllapsedTime: 21.5 seconds RetCode: 0 Status: OK PackageFile: bsseq_1.44.0.tgz PackageFileSize: 3.678 MiB