Package: bsseq Version: 1.44.1 Command: rm -rf bsseq.buildbin-libdir && mkdir bsseq.buildbin-libdir && /Users/biocbuild/BBS/utils/build-universal.sh bsseq_1.44.1.tar.gz /Library/Frameworks/R.framework/Resources/bin/R bsseq.buildbin-libdir StartedAt: 2025-10-15 17:40:19 -0400 (Wed, 15 Oct 2025) EndedAt: 2025-10-15 17:41:25 -0400 (Wed, 15 Oct 2025) EllapsedTime: 66.2 seconds RetCode: 0 Status: OK PackageFile: bsseq_1.44.1.tgz PackageFileSize: 3.675 MiB