Package: broadSeq Version: 1.2.4 Command: E:\biocbuild\bbs-3.21-bioc\R\bin\R.exe CMD INSTALL broadSeq StartedAt: 2025-08-14 16:58:56 -0400 (Thu, 14 Aug 2025) EndedAt: 2025-08-14 16:59:44 -0400 (Thu, 14 Aug 2025) EllapsedTime: 47.6 seconds RetCode: 0 Status: OK