Package: broadSeq Version: 1.2.4 Command: rm -rf broadSeq.buildbin-libdir && mkdir broadSeq.buildbin-libdir && E:\biocbuild\bbs-3.21-bioc\R\bin\R.exe CMD INSTALL --build --library=broadSeq.buildbin-libdir broadSeq_1.2.4.tar.gz StartedAt: 2025-08-15 08:53:49 -0400 (Fri, 15 Aug 2025) EndedAt: 2025-08-15 08:54:42 -0400 (Fri, 15 Aug 2025) EllapsedTime: 53.2 seconds RetCode: 0 Status: OK PackageFile: broadSeq_1.2.4.zip PackageFileSize: 2.943 MiB