Package: brendaDb Version: 1.22.0 Command: rm -rf brendaDb.buildbin-libdir && mkdir brendaDb.buildbin-libdir && /Users/biocbuild/BBS/utils/build-universal.sh brendaDb_1.22.0.tar.gz /Library/Frameworks/R.framework/Resources/bin/R brendaDb.buildbin-libdir StartedAt: 2025-04-22 00:36:06 -0400 (Tue, 22 Apr 2025) EndedAt: 2025-04-22 00:36:25 -0400 (Tue, 22 Apr 2025) EllapsedTime: 19.7 seconds RetCode: 0 Status: OK PackageFile: brendaDb_1.22.0.tgz PackageFileSize: 764.7 KiB