Package: brendaDb Version: 1.22.0 Command: /Library/Frameworks/R.framework/Resources/bin/R CMD check --install=check:brendaDb.install-out.txt --library=/Library/Frameworks/R.framework/Resources/library --no-vignettes --timings brendaDb_1.22.0.tar.gz StartedAt: 2025-04-21 18:26:58 -0400 (Mon, 21 Apr 2025) EndedAt: 2025-04-21 18:27:26 -0400 (Mon, 21 Apr 2025) EllapsedTime: 28.3 seconds RetCode: 0 Status: OK CheckDir: brendaDb.Rcheck Warnings: 0