Package: brendaDb Version: 1.22.0 Command: /Library/Frameworks/R.framework/Resources/bin/R CMD build --keep-empty-dirs --no-resave-data brendaDb StartedAt: 2025-04-21 15:47:16 -0400 (Mon, 21 Apr 2025) EndedAt: 2025-04-21 15:47:27 -0400 (Mon, 21 Apr 2025) EllapsedTime: 11.1 seconds RetCode: 0 Status: OK PackageFile: brendaDb_1.22.0.tar.gz PackageFileSize: 650.8 KiB