Package: borealis Version: 1.12.0 Command: /home/biocbuild/bbs-3.21-bioc/R/bin/R CMD check --install=check:borealis.install-out.txt --library=/home/biocbuild/bbs-3.21-bioc/R/site-library --timings borealis_1.12.0.tar.gz StartedAt: 2025-10-15 21:18:23 -0400 (Wed, 15 Oct 2025) EndedAt: 2025-10-15 21:24:44 -0400 (Wed, 15 Oct 2025) EllapsedTime: 380.4 seconds RetCode: 0 Status: OK CheckDir: borealis.Rcheck Warnings: 0